BEGIN:VCALENDAR
VERSION:2.0
PRODID:-//Savannah&#039;s On Hanna - ECPv6.15.20//NONSGML v1.0//EN
CALSCALE:GREGORIAN
METHOD:PUBLISH
X-WR-CALNAME:Savannah&#039;s On Hanna
X-ORIGINAL-URL:https://sohclub.com
X-WR-CALDESC:Events for Savannah&#039;s On Hanna
REFRESH-INTERVAL;VALUE=DURATION:PT1H
X-Robots-Tag:noindex
X-PUBLISHED-TTL:PT1H
BEGIN:VTIMEZONE
TZID:America/New_York
BEGIN:DAYLIGHT
TZOFFSETFROM:-0500
TZOFFSETTO:-0400
TZNAME:EDT
DTSTART:20250309T070000
END:DAYLIGHT
BEGIN:STANDARD
TZOFFSETFROM:-0400
TZOFFSETTO:-0500
TZNAME:EST
DTSTART:20251102T060000
END:STANDARD
BEGIN:DAYLIGHT
TZOFFSETFROM:-0500
TZOFFSETTO:-0400
TZNAME:EDT
DTSTART:20260308T070000
END:DAYLIGHT
BEGIN:STANDARD
TZOFFSETFROM:-0400
TZOFFSETTO:-0500
TZNAME:EST
DTSTART:20261101T060000
END:STANDARD
BEGIN:DAYLIGHT
TZOFFSETFROM:-0500
TZOFFSETTO:-0400
TZNAME:EDT
DTSTART:20270314T070000
END:DAYLIGHT
BEGIN:STANDARD
TZOFFSETFROM:-0400
TZOFFSETTO:-0500
TZNAME:EST
DTSTART:20271107T060000
END:STANDARD
END:VTIMEZONE
BEGIN:VEVENT
DTSTART;TZID=America/New_York:20260509T000000
DTEND;TZID=America/New_York:20260509T003000
DTSTAMP:20260425T103348
CREATED:20260421T202745Z
LAST-MODIFIED:20260422T155849Z
UID:32428-1778284800-1778286600@sohclub.com
SUMMARY:MOLLY'S BIRTHDAY DANCE
DESCRIPTION:JOIN US FOR A SWEET CELEBRATION OF\nMolly’s 22nd Birthday \nA FULL NUDE EVENT!\nSATURDAY MAY 9th at MIDNIGHT \nSAVANNAH’S ON HANNA\n1000 Hanna St\nHarrisburg\, PA 17104
URL:https://sohclub.com/event/mollys-birthday-dance/
LOCATION:Savannah’s on Hanna\, 1000 Hanna St\, Harrisburg\, PA\, United States
ATTACH;FMTTYPE=image/webp:https://sohclub.com/wp-content/uploads/2026/04/d67e8b2e-232d-4089-8731-56eefe984490.webp
END:VEVENT
END:VCALENDAR